BEGIN:VCALENDAR
VERSION:2.0
PRODID:-//Desi Nürnberg - ECPv6.14.2//NONSGML v1.0//EN
CALSCALE:GREGORIAN
METHOD:PUBLISH
X-WR-CALNAME:Desi Nürnberg
X-ORIGINAL-URL:https://desi-nbg.de
X-WR-CALDESC:Veranstaltungen für Desi Nürnberg
REFRESH-INTERVAL;VALUE=DURATION:PT1H
X-Robots-Tag:noindex
X-PUBLISHED-TTL:PT1H
BEGIN:VTIMEZONE
TZID:Europe/Berlin
BEGIN:DAYLIGHT
TZOFFSETFROM:+0100
TZOFFSETTO:+0200
TZNAME:CEST
DTSTART:20260329T010000
END:DAYLIGHT
BEGIN:STANDARD
TZOFFSETFROM:+0200
TZOFFSETTO:+0100
TZNAME:CET
DTSTART:20261025T010000
END:STANDARD
END:VTIMEZONE
BEGIN:VEVENT
DTSTART;TZID=Europe/Berlin:20260424T200000
DTEND;TZID=Europe/Berlin:20260424T233000
DTSTAMP:20260424T015149
CREATED:20260305T164859Z
LAST-MODIFIED:20260331T143820Z
UID:3446-1777060800-1777073400@desi-nbg.de
SUMMARY:VERDE – Konzerte x Grillwoch x Retrorausch
DESCRIPTION:VERDE – Konzerte x Grillwoch x RetrorauschDatum: Freitag\, 24.04.2026 \n Einlass: 17:00 Uhr Retro-Klamottenmarkt und Games im Außenbereich / 19:30 Uhr Konzerte Beginn: 20:00 Uhr Konzerte / 23:00 Uhr Aftershowparty Nur Abendkasse (Ticket-Preise folgen online) Acts: \nRetrorausch\nMonobraut\nLisae\nSkyline Green\nGrillwoch\n\nBassozial\nBoris Baker x Schmidolin\nAnuschka\n\n\n  Skyline Green\, Grillwoch und Retrorausch laden zu VERDE in die DESI ein\, um das Ergrünen des Frühlings zu feiern. Neben den Gastgeber*innen werden euch Lisae\, Monobraut\, Bassozial\, Boris Baker x Schmidolin und Anuschka aus dem Winterschlaf wecken. Ab 17:00 Uhr beginnt die Veranstaltung mit Retro-Klamottenmarkt und Games im Außenbereich (Eintritt frei). Um 19:30 starten die Konzerte. (Nur Abendkasse) Und ab 23:00 Uhr gehts weiter mit der Grillwoch-Aftershowparty. (Nur Abendkasse) \n CASH ONLY!!   Links: \nRetrorausch:\n\nInstagram: https://www.instagram.com/retrorausch/?hl=de\n\n\nMonobraut:\n\nInstagram: https://www.instagram.com/monobraut_band/?hl=de\n\n\nLisae\n\nInstagram: https://www.instagram.com/lisaemusic/?hl=de\nSpotify: https://open.spotify.com/intl-de/artist/3BThuMz98If6SFUuYa2NHw?si=nJl9sVPIQXKpbvtSLssFJQ\n\n\nSkyline Green:\n\nInstagram: https://www.instagram.com/skylinegreenband/\nSpotify: https://open.spotify.com/intl-de/artist/3KfLOFf3Wsibfv2Do6v6Ac?si=p-qSxIzZTNySv0JZ4VRs6Q\nWebsite: https://skylinegreen.de/\n\n\nGrillwoch:\n\nInstagram: https://www.instagram.com/grill.woch/
URL:https://desi-nbg.de/event/verde-skyline-green/
LOCATION:Brückenstraße 23\n90419 Nürnberg\, Germany
CATEGORIES:Clubnacht,Konzert,Markt
ATTACH;FMTTYPE=image/jpeg:https://desi-nbg.de/wp-content/uploads/2026/03/VERDE-2026-Plakat-Gelb-Web.jpg
END:VEVENT
END:VCALENDAR