BEGIN:VCALENDAR
VERSION:2.0
PRODID:-//Desi Nürnberg - ECPv6.14.2//NONSGML v1.0//EN
CALSCALE:GREGORIAN
METHOD:PUBLISH
X-WR-CALNAME:Desi Nürnberg
X-ORIGINAL-URL:https://desi-nbg.de
X-WR-CALDESC:Veranstaltungen für Desi Nürnberg
REFRESH-INTERVAL;VALUE=DURATION:PT1H
X-Robots-Tag:noindex
X-PUBLISHED-TTL:PT1H
BEGIN:VTIMEZONE
TZID:Europe/Berlin
BEGIN:DAYLIGHT
TZOFFSETFROM:+0100
TZOFFSETTO:+0200
TZNAME:CEST
DTSTART:20250330T010000
END:DAYLIGHT
BEGIN:STANDARD
TZOFFSETFROM:+0200
TZOFFSETTO:+0100
TZNAME:CET
DTSTART:20251026T010000
END:STANDARD
END:VTIMEZONE
BEGIN:VEVENT
DTSTART;TZID=Europe/Berlin:20250724T190000
DTEND;TZID=Europe/Berlin:20250724T223000
DTSTAMP:20260422T114006
CREATED:20250710T182109Z
LAST-MODIFIED:20250710T182139Z
UID:2794-1753383600-1753396200@desi-nbg.de
SUMMARY:Film: Girl Power
DESCRIPTION:Filmvorführung des Dokumentarfilms Girl Power – der erste internationale Graffiti-Film über Frauen. Die Regisseurin Sany\, selbst Writerin aus Prag\, reiste für diesen Film durch 15 Städte weltweit\, um die Geschichten weiblicher Graffiti-Künstlerinnen zu erzählen. Der Film beleuchtet die Herausforderungen und Erfolge von Frauen in einer von Männern dominierten Szene. An dem Abend gibt es eine KüFa durch das Projekt 31.
URL:https://desi-nbg.de/event/film-girl-power/
CATEGORIES:Film
END:VEVENT
END:VCALENDAR